BEGIN:VCALENDAR
PRODID:-//Calendar export
VERSION:2.0
X-WR-TIMEZONE:Etc/GMT
BEGIN:VTIMEZONE
TZID:GMT Standard Time
BEGIN:STANDARD
TZOFFSETFROM:+0000
TZOFFSETTO:+0000
END:STANDARD
END:VTIMEZONE
BEGIN:VEVENT
UID:AE119
DTSTAMP:20260421T063000Z
SUMMARY:ABWA - Shine Event
CLASS:PUBLIC
DESCRIPTION:ABWA - Shine: Empower. Connect. Achieve. 5th annual Shine e
 vent to Empowe
 r and Connect women so they can successfully Achieve their personal and p
 rofessional goals. 
STATUS:CONFIRMED
PRIORITY:1
DTSTART:20170427T210000Z
DTEND:20170428T010000Z
TRANSP:OPAQUE
END:VEVENT
END:VCALENDAR
