BEGIN:VCALENDAR
PRODID:-//Calendar export
VERSION:2.0
X-WR-TIMEZONE:Etc/GMT
BEGIN:VTIMEZONE
TZID:GMT Standard Time
BEGIN:STANDARD
TZOFFSETFROM:+0000
TZOFFSETTO:+0000
END:STANDARD
END:VTIMEZONE
BEGIN:VEVENT
UID:AE121
DTSTAMP:20260421T061000Z
SUMMARY:Celebrating the Centennial of NYS Women’s Right to Vote (19
 17-2017)
CLASS:PUBLIC
DESCRIPTION:This year – 2017 – marks 100 years since New York State sig
 ned woman’s su
 ffrage into law\, three years before the U.S. passed the 19th Amendment. 
 Equal opportunity for women is as crucial a topic in today’s political cl
 imate as it was when Susan B. Anthony was arrested in Rochester for attem
 pting to vote. Join us for a discussion about the social\, professional\,
  and political progress of women in New York State. We’ll connect contemp
 orary concerns – civil rights\, gender diversity\, equality\, and civic e
 ngagement – to the legacy of women’s suffrage.\\nRegister Online
STATUS:CONFIRMED
PRIORITY:1
DTSTART:20170301T223000Z
DTEND:20170302T013000Z
TRANSP:OPAQUE
END:VEVENT
END:VCALENDAR
