BEGIN:VCALENDAR
PRODID:-//Calendar export
VERSION:2.0
X-WR-TIMEZONE:Etc/GMT
BEGIN:VTIMEZONE
TZID:GMT Standard Time
BEGIN:STANDARD
TZOFFSETFROM:+0000
TZOFFSETTO:+0000
END:STANDARD
END:VTIMEZONE
BEGIN:VEVENT
UID:AE122
DTSTAMP:20260421T064800Z
SUMMARY:I 'Heart' Equal Pay
CLASS:PUBLIC
DESCRIPTION:BNC is pleased to present Lynn Marinelli who is Governor Cu
 omo’s Intergov
 ernmental Relations Director in WNY and former Erie County Legislature Ch
 air  as the invited keynote speaker at our April dinner meeting. She will
  discuss pay equity and its impact on working women.\\nAmong the issues c
 oncerning equal pay is proposed New York State legislation that prevents 
 employers from asking prior salary in job interview and application - A05
 982/S06342.  Since women frequently start out at a lower pay grade\, this
  legislation is one step towards removing pay inequality\, particularly b
 etween men and women.\\n\\nRegister Online 
STATUS:CONFIRMED
PRIORITY:1
DTSTART:20170405T213000Z
DTEND:20170406T003000Z
TRANSP:OPAQUE
END:VEVENT
END:VCALENDAR
