BEGIN:VCALENDAR
PRODID:-//Calendar export
VERSION:2.0
X-WR-TIMEZONE:Etc/GMT
BEGIN:VTIMEZONE
TZID:GMT Standard Time
BEGIN:STANDARD
TZOFFSETFROM:+0000
TZOFFSETTO:+0000
END:STANDARD
END:VTIMEZONE
BEGIN:VEVENT
UID:AE123
DTSTAMP:20260421T065000Z
SUMMARY:From Corporate to Startup
CLASS:PUBLIC
DESCRIPTION:After 18 years as director of marketing for Fisher-Price\, 
 Kirsten DiCarl
 o took the entrepreneur’s leap of faith to start her own company\, FabUBu
 s Mobile Spa. Unable to get a manicure during a particular busy time at w
 ork\, a friend joked to Kirsten\, “Too bad the manicure couldn’t come to 
 you.” From that little comment came forth Kirsten’s big idea – a mobile s
 alon! She realized that it wasn’t just working women who would enjoy mobi
 le spa services\; there were stay-at-home moms juggling many priorities\,
  elderly women and disabled women who lack transportation\, students stuc
 k on campus without a vehicle\, and high school girls who want to get tog
 ether to do hair and makeup before a big dance. \\nRegister Online 
STATUS:CONFIRMED
PRIORITY:1
DTSTART:20170503T213000Z
DTEND:20170504T003000Z
TRANSP:OPAQUE
END:VEVENT
END:VCALENDAR
