BEGIN:VCALENDAR
PRODID:-//Calendar export
VERSION:2.0
X-WR-TIMEZONE:Etc/GMT
BEGIN:VTIMEZONE
TZID:GMT Standard Time
BEGIN:STANDARD
TZOFFSETFROM:+0000
TZOFFSETTO:+0000
END:STANDARD
END:VTIMEZONE
BEGIN:VEVENT
UID:AE124
DTSTAMP:20260421T061000Z
SUMMARY:5th Annual Women in Leadership Recognition Dinner
CLASS:PUBLIC
DESCRIPTION:Each month the Buffalo Niagara Chapter of NYS Women\, Inc. 
 and WKBW-TV sh
 owcase successful local women who give back through their volunteer effor
 ts. Women In Leadership honorees are Western New York working women\, pro
 fessionals\, and women business owners who exhibit leadership\, enterpris
 e\, and excellence in their profession and give back to the community thr
 ough their volunteer service. \\n Register Online 
STATUS:CONFIRMED
PRIORITY:1
DTSTART:20170607T210000Z
DTEND:20170608T003000Z
TRANSP:OPAQUE
END:VEVENT
END:VCALENDAR
