BEGIN:VCALENDAR
PRODID:-//Calendar export
VERSION:2.0
X-WR-TIMEZONE:Etc/GMT
BEGIN:VTIMEZONE
TZID:GMT Standard Time
BEGIN:STANDARD
TZOFFSETFROM:+0000
TZOFFSETTO:+0000
END:STANDARD
END:VTIMEZONE
BEGIN:VEVENT
UID:AE125
DTSTAMP:20260421T101900Z
SUMMARY:State Board Meeting
CLASS:PUBLIC
DESCRIPTION:The April Board Meeting will be held on Saturday April 22\,
  2017 in Rome 
 NY at The Griffss Institute.\\nRegister Today
STATUS:CONFIRMED
PRIORITY:1
DTSTART:20170422T040000Z
DTEND:20170423T035900Z
TRANSP:OPAQUE
END:VEVENT
END:VCALENDAR
